BEGIN:VCALENDAR
VERSION:2.0
PRODID:-//The Learning Space - ECPv6.15.20//NONSGML v1.0//EN
CALSCALE:GREGORIAN
METHOD:PUBLISH
X-WR-CALNAME:The Learning Space
X-ORIGINAL-URL:https://thelearningspace.ca
X-WR-CALDESC:Events for The Learning Space
REFRESH-INTERVAL;VALUE=DURATION:PT1H
X-Robots-Tag:noindex
X-PUBLISHED-TTL:PT1H
BEGIN:VTIMEZONE
TZID:America/Toronto
BEGIN:DAYLIGHT
TZOFFSETFROM:-0500
TZOFFSETTO:-0400
TZNAME:EDT
DTSTART:20250309T070000
END:DAYLIGHT
BEGIN:STANDARD
TZOFFSETFROM:-0400
TZOFFSETTO:-0500
TZNAME:EST
DTSTART:20251102T060000
END:STANDARD
BEGIN:DAYLIGHT
TZOFFSETFROM:-0500
TZOFFSETTO:-0400
TZNAME:EDT
DTSTART:20260308T070000
END:DAYLIGHT
BEGIN:STANDARD
TZOFFSETFROM:-0400
TZOFFSETTO:-0500
TZNAME:EST
DTSTART:20261101T060000
END:STANDARD
BEGIN:DAYLIGHT
TZOFFSETFROM:-0500
TZOFFSETTO:-0400
TZNAME:EDT
DTSTART:20270314T070000
END:DAYLIGHT
BEGIN:STANDARD
TZOFFSETFROM:-0400
TZOFFSETTO:-0500
TZNAME:EST
DTSTART:20271107T060000
END:STANDARD
END:VTIMEZONE
BEGIN:VEVENT
DTSTART;TZID=America/Toronto:20260706T090000
DTEND;TZID=America/Toronto:20260814T153000
DTSTAMP:20260423T083948
CREATED:20250328T154009Z
LAST-MODIFIED:20260330T003733Z
UID:228426-1783328400-1786721400@thelearningspace.ca
SUMMARY:Summer Camp in Vaughan | The Learning Space
DESCRIPTION:2026 Summer Camp in Vaughan\nGive Your Child a Summer of Fun & Learning!\nLooking for an engaging and educational summer camp in Vaughan? The Learning Space offers a dynamic STEAM inspired program designed to spark curiosity\, creativity\, and confidence in kids! Our camp blends hands-on science\, technology\, engineering\, arts\, and math (STEAM) activities with outdoor adventures\, team-building games\, and interactive learning experiences. \nCamp Highlights:\n✅ STEAM-Focused Activities\n✅ Outdoor Adventures\n✅ Social & Team-Building Fun\n✅ Flexible Scheduling\n✅ Experienced Educators \n📍 Location: The Learning Space\, Vaughan\, ON\n📅 Dates: July 6\, 2025 to August 14\, 2025\n🕘 Time: 9:00am to 3:30pm\n💰 Pricing & Registration: Visit thelearningspace.ca \nLimited Spots Available – Secure Your Child’s Place Today! \n📲 See Our Camp in Action! Check out videos from past camps on our Instagram: @t_learning_space
URL:https://thelearningspace.ca/event/summercamp/
LOCATION:The Learning Space Woodbridge\, 3737 Major Mackenzie Drive West\, Woodbridge\, ON\, L4H 0A2\, Canada
CATEGORIES:summer camp
ATTACH;FMTTYPE=image/png:https://thelearningspace.ca/wp-content/uploads/Gemini_Generated_Image_wx6yzywx6yzywx6y.png
ORGANIZER;CN="The Learning Space Woodbridge":MAILTO:woodbridge@thelearningspace.ca
END:VEVENT
END:VCALENDAR